BEGIN:VCALENDAR
VERSION:2.0
PRODID:-//TALIB AND SHUBHAA - ECPv6.15.20//NONSGML v1.0//EN
CALSCALE:GREGORIAN
METHOD:PUBLISH
X-WR-CALNAME:TALIB AND SHUBHAA
X-ORIGINAL-URL:https://talibshubhaa.com
X-WR-CALDESC:Events for TALIB AND SHUBHAA
REFRESH-INTERVAL;VALUE=DURATION:PT1H
X-Robots-Tag:noindex
X-PUBLISHED-TTL:PT1H
BEGIN:VTIMEZONE
TZID:Europe/Paris
BEGIN:DAYLIGHT
TZOFFSETFROM:+0100
TZOFFSETTO:+0200
TZNAME:CEST
DTSTART:20230326T010000
END:DAYLIGHT
BEGIN:STANDARD
TZOFFSETFROM:+0200
TZOFFSETTO:+0100
TZNAME:CET
DTSTART:20231029T010000
END:STANDARD
BEGIN:DAYLIGHT
TZOFFSETFROM:+0100
TZOFFSETTO:+0200
TZNAME:CEST
DTSTART:20240331T010000
END:DAYLIGHT
BEGIN:STANDARD
TZOFFSETFROM:+0200
TZOFFSETTO:+0100
TZNAME:CET
DTSTART:20241027T010000
END:STANDARD
BEGIN:DAYLIGHT
TZOFFSETFROM:+0100
TZOFFSETTO:+0200
TZNAME:CEST
DTSTART:20250330T010000
END:DAYLIGHT
BEGIN:STANDARD
TZOFFSETFROM:+0200
TZOFFSETTO:+0100
TZNAME:CET
DTSTART:20251026T010000
END:STANDARD
END:VTIMEZONE
BEGIN:VEVENT
DTSTART;VALUE=DATE:20240321
DTEND;VALUE=DATE:20240329
DTSTAMP:20260422T131656
CREATED:20231214T172205Z
LAST-MODIFIED:20240203T174031Z
UID:27699-1710979200-1711670399@talibshubhaa.com
SUMMARY:Path of Love Retreat UK
DESCRIPTION:Talib with be leading Path of Love in the United Kingdom. Don’t miss it!
URL:https://talibshubhaa.com/event/path-of-love-retreat-uk/
CATEGORIES:Path of Love
END:VEVENT
END:VCALENDAR